BEGIN:VCALENDAR
VERSION:2.0
PRODID:-//Tukios.com/
BEGIN:VEVENT
UID:c76987e6-d93a-4836-897c-ddbac948e909@www.floydfuneral.com
DTSTAMP:20260421T234104Z
DTSTART:20260425T140000Z
DTEND:20260425T150000Z
SUMMARY:Visitation
DESCRIPTION:
URL:https://www.floydfuneral.com/obituaries/hilma-prosser
LOCATION:Bethel Baptist Church 1520 N. Jones Road  Olanta SC 29114
GEO:33.9412726;-79.9297717
END:VEVENT
END:VCALENDAR