BEGIN:VCALENDAR
VERSION:2.0
PRODID:-//Tukios.com/
BEGIN:VEVENT
UID:83fa5608-8a78-44bd-8b42-b61cca8ff8ad@www.floydfuneral.com
DTSTAMP:20260421T234249Z
DTSTART:20260425T150000Z
DTEND:20260425T160000Z
SUMMARY:Funeral Service
DESCRIPTION:
URL:https://www.floydfuneral.com/obituaries/hilma-prosser
LOCATION:Bethel Baptist Church 1520 N Jones Road  Olanta SC 29114
GEO:33.9412726;-79.9297717
END:VEVENT
END:VCALENDAR