BEGIN:VCALENDAR
VERSION:2.0
PRODID:-//Tukios.com/
BEGIN:VEVENT
UID:40485bd3-d58a-48ad-8bc7-ddcf783afd9b@www.floydfuneral.com
DTSTAMP:20260424T005636Z
DTSTART:20260425T190000Z
DTEND:20260425T200000Z
SUMMARY:Visitation
DESCRIPTION:
URL:https://www.floydfuneral.com/obituaries/sammie-driggers
LOCATION:Horse Branch Free Will Baptist Church Cemetery 1097 Horse Branch 
	Road  Turbeville SC 29162
GEO:33.8908685;-79.999361
END:VEVENT
END:VCALENDAR